BEGIN:VCALENDAR
VERSION:2.0
PRODID:-//The Peddie School - ECPv6.15.17.1//NONSGML v1.0//EN
CALSCALE:GREGORIAN
METHOD:PUBLISH
X-ORIGINAL-URL:https://peddie.org
X-WR-CALDESC:Events for The Peddie School
REFRESH-INTERVAL;VALUE=DURATION:PT1H
X-Robots-Tag:noindex
X-PUBLISHED-TTL:PT1H
BEGIN:VTIMEZONE
TZID:America/New_York
BEGIN:DAYLIGHT
TZOFFSETFROM:-0500
TZOFFSETTO:-0400
TZNAME:EDT
DTSTART:20240310T070000
END:DAYLIGHT
BEGIN:STANDARD
TZOFFSETFROM:-0400
TZOFFSETTO:-0500
TZNAME:EST
DTSTART:20241103T060000
END:STANDARD
BEGIN:DAYLIGHT
TZOFFSETFROM:-0500
TZOFFSETTO:-0400
TZNAME:EDT
DTSTART:20250309T070000
END:DAYLIGHT
BEGIN:STANDARD
TZOFFSETFROM:-0400
TZOFFSETTO:-0500
TZNAME:EST
DTSTART:20251102T060000
END:STANDARD
BEGIN:DAYLIGHT
TZOFFSETFROM:-0500
TZOFFSETTO:-0400
TZNAME:EDT
DTSTART:20260308T070000
END:DAYLIGHT
BEGIN:STANDARD
TZOFFSETFROM:-0400
TZOFFSETTO:-0500
TZNAME:EST
DTSTART:20261101T060000
END:STANDARD
END:VTIMEZONE
BEGIN:VEVENT
DTSTART;TZID=America/New_York:20250508T193000
DTEND;TZID=America/New_York:20250510T210000
DTSTAMP:20260420T201231
CREATED:20240801T165400Z
LAST-MODIFIED:20250507T134807Z
UID:10000806-1746732600-1746910800@peddie.org
SUMMARY:Spring Play
DESCRIPTION:The Spring Play\, Our Town will be performed on Thursday\, May 8 through Saturday\, May 10 at 7:30 p.m. in the William Mount-Burke ’54 Theatre. \n\n\n\nOrder your tickets here. \n\n\n\nTickets are $12 for family and friends\, and free for Peddie students and employees. Tickets are general admission\, seating on risers. \n\n\n\nIf you have any questions or need to exchange or return tickets\, please contact Ms. Anker at arts@peddie.org.
URL:https://peddie.org/event/spring-play-3/
LOCATION:Geiger Reeves Hall\, The Peddie School
CATEGORIES:Arts,Parents,School Calendar,Student Life Activities
END:VEVENT
BEGIN:VEVENT
DTSTART;TZID=America/New_York:20250515T193000
DTEND;TZID=America/New_York:20250515T203000
DTSTAMP:20260420T201231
CREATED:20240801T165400Z
LAST-MODIFIED:20240820T181647Z
UID:10000807-1747337400-1747341000@peddie.org
SUMMARY:Music Concert
DESCRIPTION:Performances by The Peddie Choir\, Orchestra and numerous vocal and instrumental ensembles.
URL:https://peddie.org/event/music-concert-6/
LOCATION:Ding Music Hall\, The Peddie School
CATEGORIES:Arts,Parents,School Calendar
END:VEVENT
BEGIN:VEVENT
DTSTART;TZID=America/New_York:20250522T153000
DTEND;TZID=America/New_York:20250522T173000
DTSTAMP:20260420T201231
CREATED:20240801T165559Z
LAST-MODIFIED:20250304T153118Z
UID:10000808-1747927800-1747935000@peddie.org
SUMMARY:Pre-Prom Reception
DESCRIPTION:Parents and families are welcome to join us on center campus for pre-prom festivities and photos before our students board the buses to attend the Junior-Senior Prom.
URL:https://peddie.org/event/prom-2/
LOCATION:The Peddie School\, 201 South Main Street\, Hightstown\, NJ\, 08250\, United States
CATEGORIES:Parents,School Calendar
END:VEVENT
BEGIN:VEVENT
DTSTART;TZID=America/New_York:20250522T180000
DTEND;TZID=America/New_York:20250522T220000
DTSTAMP:20260420T201231
CREATED:20250304T153222Z
LAST-MODIFIED:20250430T134127Z
UID:10001737-1747936800-1747951200@peddie.org
SUMMARY:Prom
DESCRIPTION:
URL:https://peddie.org/event/prom-3/
LOCATION:The Peddie School\, 201 South Main Street\, Hightstown\, NJ\, 08250\, United States
CATEGORIES:Featured,Parents,School Calendar
ATTACH;FMTTYPE=image/jpeg:https://peddie.org/wp-content/uploads/2025/03/IMG_7335-copy.jpg
END:VEVENT
BEGIN:VEVENT
DTSTART;TZID=America/New_York:20250524T193000
DTEND;TZID=America/New_York:20250524T210000
DTSTAMP:20260420T201231
CREATED:20240610T153824Z
LAST-MODIFIED:20250521T175523Z
UID:10000712-1748115000-1748120400@peddie.org
SUMMARY:Baccalaureate
DESCRIPTION:Say farewell and reflect with the senior class before they receive their Peddie diplomas. Please note this event is for seniors and senior parents only.
URL:https://peddie.org/event/baccalaureate-2/
LOCATION:The Peddie School\, 201 South Main Street\, Hightstown\, NJ\, 08250\, United States
CATEGORIES:Featured,Parents,School Calendar
END:VEVENT
BEGIN:VEVENT
DTSTART;TZID=America/New_York:20250525T103000
DTEND;TZID=America/New_York:20250525T120000
DTSTAMP:20260420T201231
CREATED:20240610T153834Z
LAST-MODIFIED:20250521T175715Z
UID:10000727-1748169000-1748174400@peddie.org
SUMMARY:Commencement
DESCRIPTION:Celebrate our graduating seniors as their time at Peddie comes to an end. All students attend this event.
URL:https://peddie.org/event/commencement-2/
LOCATION:The Peddie School\, 201 South Main Street\, Hightstown\, NJ\, 08250\, United States
CATEGORIES:Featured,Parents,School Calendar
END:VEVENT
END:VCALENDAR