BEGIN:VCALENDAR
VERSION:2.0
PRODID:-//The Peddie School - ECPv6.15.17.1//NONSGML v1.0//EN
CALSCALE:GREGORIAN
METHOD:PUBLISH
X-WR-CALNAME:The Peddie School
X-ORIGINAL-URL:https://peddie.org
X-WR-CALDESC:Events for The Peddie School
REFRESH-INTERVAL;VALUE=DURATION:PT1H
X-Robots-Tag:noindex
X-PUBLISHED-TTL:PT1H
BEGIN:VTIMEZONE
TZID:America/New_York
BEGIN:DAYLIGHT
TZOFFSETFROM:-0500
TZOFFSETTO:-0400
TZNAME:EDT
DTSTART:20240310T070000
END:DAYLIGHT
BEGIN:STANDARD
TZOFFSETFROM:-0400
TZOFFSETTO:-0500
TZNAME:EST
DTSTART:20241103T060000
END:STANDARD
BEGIN:DAYLIGHT
TZOFFSETFROM:-0500
TZOFFSETTO:-0400
TZNAME:EDT
DTSTART:20250309T070000
END:DAYLIGHT
BEGIN:STANDARD
TZOFFSETFROM:-0400
TZOFFSETTO:-0500
TZNAME:EST
DTSTART:20251102T060000
END:STANDARD
BEGIN:DAYLIGHT
TZOFFSETFROM:-0500
TZOFFSETTO:-0400
TZNAME:EDT
DTSTART:20260308T070000
END:DAYLIGHT
BEGIN:STANDARD
TZOFFSETFROM:-0400
TZOFFSETTO:-0500
TZNAME:EST
DTSTART:20261101T060000
END:STANDARD
END:VTIMEZONE
BEGIN:VEVENT
DTSTART;TZID=America/New_York:20250828T170000
DTEND;TZID=America/New_York:20250828T190000
DTSTAMP:20260420T141111
CREATED:20250814T193444Z
LAST-MODIFIED:20250814T194108Z
UID:10002169-1756400400-1756407600@peddie.org
SUMMARY:Peddie Orientation: New Family Meet and Greet
DESCRIPTION:You’ve unpacked the car\, made a stop at The Peddie Store and helped your student take their first steps into life at Peddie. Now it’s your moment to exhale — and connect. \n\n\n\nWe warmly invite all families with a new Peddie student — day and boarding alike — to join the Peddie Parents Association (PPA) and our Parent Class Representatives for a relaxed Meet & Greet before you head home. \n\n\n\nCome say hello\, meet other new families\, ask questions\, swap stories\, or just enjoy a friendly face and a refreshing break. It’s a simple way to feel a little more at home in the Peddie community.
URL:https://peddie.org/event/peddie-orientation-new-family-meet-and-greet/
LOCATION:Gratitude Garden at the Peddie Arts Center
CATEGORIES:Parents,School Calendar
END:VEVENT
END:VCALENDAR