BEGIN:VCALENDAR
VERSION:2.0
PRODID:-//The Peddie School - ECPv6.15.17.1//NONSGML v1.0//EN
CALSCALE:GREGORIAN
METHOD:PUBLISH
X-ORIGINAL-URL:https://peddie.org
X-WR-CALDESC:Events for The Peddie School
REFRESH-INTERVAL;VALUE=DURATION:PT1H
X-Robots-Tag:noindex
X-PUBLISHED-TTL:PT1H
BEGIN:VTIMEZONE
TZID:America/New_York
BEGIN:DAYLIGHT
TZOFFSETFROM:-0500
TZOFFSETTO:-0400
TZNAME:EDT
DTSTART:20240310T070000
END:DAYLIGHT
BEGIN:STANDARD
TZOFFSETFROM:-0400
TZOFFSETTO:-0500
TZNAME:EST
DTSTART:20241103T060000
END:STANDARD
BEGIN:DAYLIGHT
TZOFFSETFROM:-0500
TZOFFSETTO:-0400
TZNAME:EDT
DTSTART:20250309T070000
END:DAYLIGHT
BEGIN:STANDARD
TZOFFSETFROM:-0400
TZOFFSETTO:-0500
TZNAME:EST
DTSTART:20251102T060000
END:STANDARD
BEGIN:DAYLIGHT
TZOFFSETFROM:-0500
TZOFFSETTO:-0400
TZNAME:EDT
DTSTART:20260308T070000
END:DAYLIGHT
BEGIN:STANDARD
TZOFFSETFROM:-0400
TZOFFSETTO:-0500
TZNAME:EST
DTSTART:20261101T060000
END:STANDARD
END:VTIMEZONE
BEGIN:VEVENT
DTSTART;TZID=America/New_York:20251218T173000
DTEND;TZID=America/New_York:20251218T191500
DTSTAMP:20260420T063422
CREATED:20251007T132648Z
LAST-MODIFIED:20251118T152841Z
UID:10002441-1766079000-1766085300@peddie.org
SUMMARY:Vespers Dinner
DESCRIPTION:Each December\, Peddie students gather in Ayer Memorial Chapel for Vespers\, a celebration featuring holiday readings and music\, both religious and secular. Alumni and families are invited to attend as well. \n\n\n\nAs part of the festivities\, the PPA invites parents and guardians to gather and celebrate over dinner on Wednesday\, December 18 from 5:30–7:15 p.m. in The Walter and Leonore Annenberg Science Center before the service begins at 7:30 p.m. (students will dine in the dining hall.) \n\n\n\nRSVP here to attend the dinner by Friday\, December 12\, 2025! \n\n\n\nSign up to help with Vespers Dinner\, setup\, clean up or bring a dessert! \n\n\n\nCurious about what to expect? Watch last year’s video here!
URL:https://peddie.org/event/vespers-dinner/
LOCATION:The Peddie School\, 201 South Main Street\, Hightstown\, NJ\, 08250\, United States
CATEGORIES:Parents,School Calendar
END:VEVENT
BEGIN:VEVENT
DTSTART;TZID=America/New_York:20251218T193000
DTEND;TZID=America/New_York:20251218T203000
DTSTAMP:20260420T063422
CREATED:20241115T193707Z
LAST-MODIFIED:20250326T175248Z
UID:10001364-1766086200-1766089800@peddie.org
SUMMARY:Vespers
DESCRIPTION:
URL:https://peddie.org/event/vespers-4/
LOCATION:The Peddie School\, 201 South Main Street\, Hightstown\, NJ\, 08250\, United States
CATEGORIES:Arts,Parents,School Calendar
END:VEVENT
END:VCALENDAR