BEGIN:VCALENDAR
VERSION:2.0
PRODID:-//The Peddie School - ECPv6.15.17.1//NONSGML v1.0//EN
CALSCALE:GREGORIAN
METHOD:PUBLISH
X-WR-CALNAME:The Peddie School
X-ORIGINAL-URL:https://peddie.org
X-WR-CALDESC:Events for The Peddie School
REFRESH-INTERVAL;VALUE=DURATION:PT1H
X-Robots-Tag:noindex
X-PUBLISHED-TTL:PT1H
BEGIN:VTIMEZONE
TZID:America/New_York
BEGIN:DAYLIGHT
TZOFFSETFROM:-0500
TZOFFSETTO:-0400
TZNAME:EDT
DTSTART:20250309T070000
END:DAYLIGHT
BEGIN:STANDARD
TZOFFSETFROM:-0400
TZOFFSETTO:-0500
TZNAME:EST
DTSTART:20251102T060000
END:STANDARD
BEGIN:DAYLIGHT
TZOFFSETFROM:-0500
TZOFFSETTO:-0400
TZNAME:EDT
DTSTART:20260308T070000
END:DAYLIGHT
BEGIN:STANDARD
TZOFFSETFROM:-0400
TZOFFSETTO:-0500
TZNAME:EST
DTSTART:20261101T060000
END:STANDARD
BEGIN:DAYLIGHT
TZOFFSETFROM:-0500
TZOFFSETTO:-0400
TZNAME:EDT
DTSTART:20270314T070000
END:DAYLIGHT
BEGIN:STANDARD
TZOFFSETFROM:-0400
TZOFFSETTO:-0500
TZNAME:EST
DTSTART:20271107T060000
END:STANDARD
END:VTIMEZONE
BEGIN:VEVENT
DTSTART;TZID=America/New_York:20260322T170000
DTEND;TZID=America/New_York:20260322T190000
DTSTAMP:20260420T010549
CREATED:20251007T132949Z
LAST-MODIFIED:20251007T132954Z
UID:10002443-1774198800-1774206000@peddie.org
SUMMARY:PPA Spring Meet & Greet
DESCRIPTION:Bringing your student back to campus after spring break? Join other families for a casual gathering at The Grille in the Caspersen Campus Center. Meet new friends or reconnect with old friends. Boarding and day families are welcome!
URL:https://peddie.org/event/ppa-spring-meet-greet/
LOCATION:The Peddie School\, 201 South Main Street\, Hightstown\, NJ\, 08250\, United States
CATEGORIES:Parents,School Calendar
END:VEVENT
END:VCALENDAR