BEGIN:VCALENDAR
VERSION:2.0
PRODID:-//The Peddie School - ECPv6.15.20//NONSGML v1.0//EN
CALSCALE:GREGORIAN
METHOD:PUBLISH
X-WR-CALNAME:The Peddie School
X-ORIGINAL-URL:https://peddie.org
X-WR-CALDESC:Events for The Peddie School
REFRESH-INTERVAL;VALUE=DURATION:PT1H
X-Robots-Tag:noindex
X-PUBLISHED-TTL:PT1H
BEGIN:VTIMEZONE
TZID:America/New_York
BEGIN:DAYLIGHT
TZOFFSETFROM:-0500
TZOFFSETTO:-0400
TZNAME:EDT
DTSTART:20240310T070000
END:DAYLIGHT
BEGIN:STANDARD
TZOFFSETFROM:-0400
TZOFFSETTO:-0500
TZNAME:EST
DTSTART:20241103T060000
END:STANDARD
BEGIN:DAYLIGHT
TZOFFSETFROM:-0500
TZOFFSETTO:-0400
TZNAME:EDT
DTSTART:20250309T070000
END:DAYLIGHT
BEGIN:STANDARD
TZOFFSETFROM:-0400
TZOFFSETTO:-0500
TZNAME:EST
DTSTART:20251102T060000
END:STANDARD
BEGIN:DAYLIGHT
TZOFFSETFROM:-0500
TZOFFSETTO:-0400
TZNAME:EDT
DTSTART:20260308T070000
END:DAYLIGHT
BEGIN:STANDARD
TZOFFSETFROM:-0400
TZOFFSETTO:-0500
TZNAME:EST
DTSTART:20261101T060000
END:STANDARD
END:VTIMEZONE
BEGIN:VEVENT
DTSTART;TZID=America/New_York:20251201T180000
DTEND;TZID=America/New_York:20251201T190000
DTSTAMP:20260423T034015
CREATED:20251124T163037Z
LAST-MODIFIED:20251124T163040Z
UID:10002606-1764612000-1764615600@peddie.org
SUMMARY:Dinner
DESCRIPTION:Salad Bar & Deli Line\, Pasta Station & Rice\, GF Vegetables\, GF Chicken of Tofu Marsala\, Chef Matt’s Hamburger Helper\, Rolls & Butter and Fresh Mixed Fruit
URL:https://peddie.org/event/dinner-299/
CATEGORIES:PFS Menus
END:VEVENT
BEGIN:VEVENT
DTSTART;TZID=America/New_York:20251202T071500
DTEND;TZID=America/New_York:20251202T080000
DTSTAMP:20260423T034015
CREATED:20251124T163338Z
LAST-MODIFIED:20251124T163340Z
UID:10002596-1764659700-1764662400@peddie.org
SUMMARY:Breakfast
DESCRIPTION:GF Scrambled Eggs\, Challah French Toast\, GF Hash Browns\, Fresh Mixed Fruit\, Yogurt and Muffins
URL:https://peddie.org/event/breakfast-276/
CATEGORIES:PFS Menus
END:VEVENT
BEGIN:VEVENT
DTSTART;TZID=America/New_York:20251202T113000
DTEND;TZID=America/New_York:20251202T134500
DTSTAMP:20260423T034015
CREATED:20251114T184141Z
LAST-MODIFIED:20251124T163336Z
UID:10002585-1764675000-1764683100@peddie.org
SUMMARY:Lunch
DESCRIPTION:Salad Bar & Deli Station\, Pasta – Linguini with Clam Sauce/Vegetarian Station\, GF Rice\, Vegetable Barley Soup\, Beef or Falafel Gyro with Tzatziki Sauce\, GF Cucumber Tomato Salad and Fresh Mixed Fruit
URL:https://peddie.org/event/lunch-271/
CATEGORIES:PFS Menus
END:VEVENT
BEGIN:VEVENT
DTSTART;TZID=America/New_York:20251202T180000
DTEND;TZID=America/New_York:20251202T190000
DTSTAMP:20260423T034015
CREATED:20251124T163504Z
LAST-MODIFIED:20251124T163508Z
UID:10002607-1764698400-1764702000@peddie.org
SUMMARY:Dinner
DESCRIPTION:Salad Bar\, Pasta Station & GF Rice\, Vegetables\, GF Beef or Vegan Tacos\, GF Yellow Rice\, Blue Plate Special: GF Santa Fe Fish Tacos\, Chicken & Black Bean Eggrolls\, Rolls and Butter and Fresh Mixed Fruit
URL:https://peddie.org/event/dinner-300/
CATEGORIES:PFS Menus
END:VEVENT
BEGIN:VEVENT
DTSTART;TZID=America/New_York:20251203T071500
DTEND;TZID=America/New_York:20251203T083000
DTSTAMP:20260423T034015
CREATED:20251124T163509Z
LAST-MODIFIED:20251124T163512Z
UID:10002598-1764746100-1764750600@peddie.org
SUMMARY:Breakfast
DESCRIPTION:GF Fried Eggs\, GF Scrambled Eggs Bar\, Waffles Belgium\, GF Breakfast Meats\, Bagels\, Yogurt\, GF Smoothies and Fresh Mixed Fruit
URL:https://peddie.org/event/breakfast-277/
CATEGORIES:PFS Menus
END:VEVENT
BEGIN:VEVENT
DTSTART;TZID=America/New_York:20251203T113000
DTEND;TZID=America/New_York:20251203T132000
DTSTAMP:20260423T034015
CREATED:20251124T163550Z
LAST-MODIFIED:20251124T163552Z
UID:10002599-1764761400-1764768000@peddie.org
SUMMARY:Lunch
DESCRIPTION:Salad Bar\, Deli Station\, Pasta/Vegetarian Station\, Vegetables\, GF Roasted Garlic Cauliflower Soup\, GF Creamy Mushroom Chicken or Tofu\, Rice & Beans and Fresh Mixed Fruit
URL:https://peddie.org/event/lunch-276/
CATEGORIES:PFS Menus
END:VEVENT
BEGIN:VEVENT
DTSTART;TZID=America/New_York:20251203T180000
DTEND;TZID=America/New_York:20251203T190000
DTSTAMP:20260423T034015
CREATED:20251124T163713Z
LAST-MODIFIED:20251124T163716Z
UID:10002608-1764784800-1764788400@peddie.org
SUMMARY:Dinner
DESCRIPTION:Salad Bar & Deli Line\, Pasta Station & Rice\, GF Grilled Pork Chops\, GF Apple Sauce\, GF Honey Ancho Chicken\, GF Vegetables\, GF Honey Ancho Zucchini & Chick Peas\, Blue Plate Special: Shrimp Po Boys\, Rolls and Butter and Fresh Mixed Fruit
URL:https://peddie.org/event/dinner-301/
CATEGORIES:PFS Menus
END:VEVENT
BEGIN:VEVENT
DTSTART;TZID=America/New_York:20251204T071500
DTEND;TZID=America/New_York:20251204T080000
DTSTAMP:20260423T034015
CREATED:20251124T163731Z
LAST-MODIFIED:20251124T163733Z
UID:10002600-1764832500-1764835200@peddie.org
SUMMARY:Breakfast
DESCRIPTION:GF Scrambled Eggs\, Pancakes\, GF Diner Fries\, Pastries\, Fresh Mixed Fruit\, Yogurt and Muffins
URL:https://peddie.org/event/breakfast-278/
CATEGORIES:PFS Menus
END:VEVENT
BEGIN:VEVENT
DTSTART;TZID=America/New_York:20251204T113000
DTEND;TZID=America/New_York:20251204T134500
DTSTAMP:20260423T034015
CREATED:20251124T163802Z
LAST-MODIFIED:20251124T163804Z
UID:10002601-1764847800-1764855900@peddie.org
SUMMARY:Lunch
DESCRIPTION:Salad Bar & Deli Station\, Pasta – Ravioli/Vegetarian Station\, GF Tuscan Sausage & Kale Soup\, GF Sausage or Vegan Sausage with Peppers and Onions\, Croissants and Fresh Mixed Fruit
URL:https://peddie.org/event/lunch-277/
CATEGORIES:PFS Menus
END:VEVENT
BEGIN:VEVENT
DTSTART;TZID=America/New_York:20251204T180000
DTEND;TZID=America/New_York:20251204T190000
DTSTAMP:20260423T034015
CREATED:20251124T163839Z
LAST-MODIFIED:20251124T163842Z
UID:10002609-1764871200-1764874800@peddie.org
SUMMARY:Dinner
DESCRIPTION:Salad Bar\, Pasta Station & Rice\, GF Vegetables\, GF BBQ Salmon\, Bayou Chicken Pasta\, GF Native Harvest Stew\, GF Basmati Rice\, Bread and Butter and Fresh Mixed Fruit
URL:https://peddie.org/event/dinner-302/
CATEGORIES:PFS Menus
END:VEVENT
BEGIN:VEVENT
DTSTART;TZID=America/New_York:20251205T071500
DTEND;TZID=America/New_York:20251205T083000
DTSTAMP:20260423T034015
CREATED:20251124T163903Z
LAST-MODIFIED:20251124T163907Z
UID:10002610-1764918900-1764923400@peddie.org
SUMMARY:Breakfast
DESCRIPTION:GF Fried and Scrambled Eggs\, Texas Toast French Toast\, Home Fries\, Bagels\, Yogurt\, Berries & Granola Parfaits and Fresh Mixed Fruit
URL:https://peddie.org/event/breakfast-279/
CATEGORIES:PFS Menus
END:VEVENT
BEGIN:VEVENT
DTSTART;TZID=America/New_York:20251205T113000
DTEND;TZID=America/New_York:20251205T132000
DTSTAMP:20260423T034015
CREATED:20251124T163933Z
LAST-MODIFIED:20251124T163936Z
UID:10002611-1764934200-1764940800@peddie.org
SUMMARY:Lunch
DESCRIPTION:Salad Bar & Deli Station\, Pasta/Vegetarian Station\, Vegetables\, GF Red Pepper Cheddar Soup\, Beef or Vegan Philly Cheesesteaks and Fresh Mixed Fruit
URL:https://peddie.org/event/lunch-278/
CATEGORIES:PFS Menus
END:VEVENT
BEGIN:VEVENT
DTSTART;TZID=America/New_York:20251205T180000
DTEND;TZID=America/New_York:20251205T190000
DTSTAMP:20260423T034015
CREATED:20251124T164009Z
LAST-MODIFIED:20251124T164012Z
UID:10002612-1764957600-1764961200@peddie.org
SUMMARY:Dinner
DESCRIPTION:Salad Bar/Deli Line\, Pasta Station & Rice\, GF Hot Honey Chicken Meatballs\, GF Sweet and Sour Pork or Tofu\, Fresh Mixed Fruit\, Rolls and Butter and Frozen Yogurt
URL:https://peddie.org/event/dinner-303/
CATEGORIES:PFS Menus
END:VEVENT
BEGIN:VEVENT
DTSTART;TZID=America/New_York:20251206T071500
DTEND;TZID=America/New_York:20251206T080000
DTSTAMP:20260423T034015
CREATED:20251124T164429Z
LAST-MODIFIED:20251124T164432Z
UID:10002613-1765005300-1765008000@peddie.org
SUMMARY:Breakfast
DESCRIPTION:GF Scrambled Eggs\, Pancakes\, GF Hash Browns\, Pastries\, Bagels\, Yogurt and Fresh Mixed Fruit
URL:https://peddie.org/event/breakfast-280/
CATEGORIES:PFS Menus
END:VEVENT
BEGIN:VEVENT
DTSTART;TZID=America/New_York:20251206T113000
DTEND;TZID=America/New_York:20251206T130000
DTSTAMP:20260423T034015
CREATED:20251124T164504Z
LAST-MODIFIED:20251124T164507Z
UID:10002614-1765020600-1765026000@peddie.org
SUMMARY:Lunch
DESCRIPTION:Salad Bar\, Deli Station\, Pasta/Vegetarian Station\, GF Rice\, Vegetables\, Soup: Chef’s Choice\, Baked Ziti (Cheese Only)\, GF Quinoa with Roasted Garlic Broccoli and Fresh Mixed Fruit
URL:https://peddie.org/event/lunch-279/
CATEGORIES:PFS Menus
END:VEVENT
BEGIN:VEVENT
DTSTART;TZID=America/New_York:20251206T180000
DTEND;TZID=America/New_York:20251206T190000
DTSTAMP:20260423T034015
CREATED:20251124T164529Z
LAST-MODIFIED:20251124T164532Z
UID:10002615-1765044000-1765047600@peddie.org
SUMMARY:Dinner
DESCRIPTION:Salad Bar & Deli Station\, Pasta Station & Rice\, Chef’s Choice\, Pierogi Sausage Bake\, Samosas\, Rolls and Butter and Fresh Mixed Fruit
URL:https://peddie.org/event/dinner-304/
CATEGORIES:PFS Menus
END:VEVENT
BEGIN:VEVENT
DTSTART;TZID=America/New_York:20251207T100000
DTEND;TZID=America/New_York:20251207T120000
DTSTAMP:20260423T034015
CREATED:20251205T162708Z
LAST-MODIFIED:20251205T162710Z
UID:10002623-1765101600-1765108800@peddie.org
SUMMARY:Brunch
DESCRIPTION:Breakfast Cereal\, Toast/Juice\, Waffles\, Eggs to Order\, Pancake Bites\, GF Pork Roll & Chicken Sausage\, Bagels\, Yogurt\, Fresh Mixed Fruit\, GF Brunch Potatoes\, Assorted Pastries and Croissants
URL:https://peddie.org/event/brunch-41/
CATEGORIES:PFS Menus
END:VEVENT
BEGIN:VEVENT
DTSTART;TZID=America/New_York:20251207T170000
DTEND;TZID=America/New_York:20251207T180000
DTSTAMP:20260423T034015
CREATED:20251205T162815Z
LAST-MODIFIED:20251205T162817Z
UID:10002624-1765126800-1765130400@peddie.org
SUMMARY:Dinner
DESCRIPTION:Salad Bar/Deli Line\, Pasta Station & Rice\, Chef’s Choice\, GF Rice\, GF Vegetables\, Beef Stuffed Peppers\, GF Buffalo Cauliflower with Grains\, Fresh Mixed Fruit\, Rolls and Butter and Ice Cream Bar
URL:https://peddie.org/event/dinner-305/
CATEGORIES:PFS Menus
END:VEVENT
BEGIN:VEVENT
DTSTART;TZID=America/New_York:20251208T071500
DTEND;TZID=America/New_York:20251208T083000
DTSTAMP:20260423T034015
CREATED:20251205T162902Z
LAST-MODIFIED:20251205T162905Z
UID:10002594-1765178100-1765182600@peddie.org
SUMMARY:Breakfast
DESCRIPTION:Breakfast Cereal\, Fresh Fruit\, GF Scrambled Eggs\, Home Fries\, GF Omelets\, GF Breakfast Meats\, Strawberry Basil Smoothies\, Fresh Mixed Fruit\, Yogurt and Coffee Cake
URL:https://peddie.org/event/breakfast-281/
CATEGORIES:PFS Menus
END:VEVENT
BEGIN:VEVENT
DTSTART;TZID=America/New_York:20251208T113000
DTEND;TZID=America/New_York:20251208T132000
DTSTAMP:20260423T034015
CREATED:20251205T162956Z
LAST-MODIFIED:20251205T163003Z
UID:10002595-1765193400-1765200000@peddie.org
SUMMARY:Lunch
DESCRIPTION:Salad Bar\, Deli Station\, GF Rice\, Pasta/Vegetarian Station\, GF Cheeseburger Soup\, Pepperoni Pizza Pitas\, Mushroom Pizza Pitas\, Rice & Beans and Fresh Mixed Fruit
URL:https://peddie.org/event/lunch-280/
CATEGORIES:PFS Menus
END:VEVENT
BEGIN:VEVENT
DTSTART;TZID=America/New_York:20251208T180000
DTEND;TZID=America/New_York:20251208T190000
DTSTAMP:20260423T034015
CREATED:20251205T163333Z
LAST-MODIFIED:20251205T163336Z
UID:10002625-1765216800-1765220400@peddie.org
SUMMARY:Dinner
DESCRIPTION:Advisee Dinner: Salad Bar & Deli Line\, Pasta Station & Rice\, GF Vegetables\, Mandarin Orange Salad\, Beef or Tofu Vegetable Lo Mein\, Vegetable Egg Rolls\, GF Sticky Rice\, GF Garlic Bok Choy\, Fortune Cookies\, Rolls & Butter and Fresh Mixed Fruit
URL:https://peddie.org/event/dinner-306/
CATEGORIES:PFS Menus
END:VEVENT
BEGIN:VEVENT
DTSTART;TZID=America/New_York:20251209T071500
DTEND;TZID=America/New_York:20251209T080000
DTSTAMP:20260423T034015
CREATED:20251205T163416Z
LAST-MODIFIED:20251205T163422Z
UID:10002626-1765264500-1765267200@peddie.org
SUMMARY:Breakfast
DESCRIPTION:GF Scrambled Eggs\, Challah French Toast\, GF Hash Browns\, Fresh Mixed Fruit\, Yogurt and Muffins
URL:https://peddie.org/event/breakfast-282/
CATEGORIES:PFS Menus
END:VEVENT
BEGIN:VEVENT
DTSTART;TZID=America/New_York:20251209T113000
DTEND;TZID=America/New_York:20251209T134500
DTSTAMP:20260423T034015
CREATED:20251205T163529Z
LAST-MODIFIED:20251205T163532Z
UID:10002627-1765279800-1765287900@peddie.org
SUMMARY:Lunch
DESCRIPTION:Salad Bar & Deli Station\, Pasta – Tagliatelle Alfredo/Vegetarian Station\, GF Rice\, Chicken Noodle Soup\, BBQ Pork Sliders\, Vegan BBQ Sliders\, Coleslaw\, Blue Plate Special: Tomato Egg with Rice and Fresh Mixed Fruit
URL:https://peddie.org/event/lunch-281/
CATEGORIES:PFS Menus
END:VEVENT
BEGIN:VEVENT
DTSTART;TZID=America/New_York:20251209T180000
DTEND;TZID=America/New_York:20251209T190000
DTSTAMP:20260423T034015
CREATED:20251205T163601Z
LAST-MODIFIED:20251205T163603Z
UID:10002628-1765303200-1765306800@peddie.org
SUMMARY:Dinner
DESCRIPTION:Salad Bar\, Pasta Station & GF Rice\, Vegetables\, Chicken or Vegan Parmesan\, Spaghetti\, GF Shrimp Scampi\,  Rolls and Butter and Fresh Mixed Fruit
URL:https://peddie.org/event/dinner-307/
CATEGORIES:PFS Menus
END:VEVENT
BEGIN:VEVENT
DTSTART;TZID=America/New_York:20251210T071500
DTEND;TZID=America/New_York:20251210T083000
DTSTAMP:20260423T034015
CREATED:20251205T163646Z
LAST-MODIFIED:20251205T163649Z
UID:10002629-1765350900-1765355400@peddie.org
SUMMARY:Breakfast
DESCRIPTION:GF Fried Eggs\, GF Scrambled Eggs Bar\, Waffles Belgium\, GF Breakfast Meats\, Bagels\, Yogurt\, GF Smoothies and Fresh Mixed Fruit
URL:https://peddie.org/event/breakfast-283/
CATEGORIES:PFS Menus
END:VEVENT
BEGIN:VEVENT
DTSTART;TZID=America/New_York:20251210T113000
DTEND;TZID=America/New_York:20251210T132000
DTSTAMP:20260423T034015
CREATED:20251205T163713Z
LAST-MODIFIED:20251205T163716Z
UID:10002630-1765366200-1765372800@peddie.org
SUMMARY:Lunch
DESCRIPTION:Salad Bar\, Deli Station\, Pasta/Vegetarian Station\, Vegetables\, GF Split Pea Soup\, Chicken or Vegan Nuggets\, Rice & Beans and Fresh Mixed Fruit
URL:https://peddie.org/event/lunch-282/
CATEGORIES:PFS Menus
END:VEVENT
BEGIN:VEVENT
DTSTART;TZID=America/New_York:20251210T180000
DTEND;TZID=America/New_York:20251210T190000
DTSTAMP:20260423T034015
CREATED:20251205T163824Z
LAST-MODIFIED:20251205T163827Z
UID:10002631-1765389600-1765393200@peddie.org
SUMMARY:Dinner
DESCRIPTION:Salad Bar & Deli Line\, Pasta Station & Rice\, Breaded Pork Chops\, GF Apple Sauce\, Jamaican Beef Patties\, Vegan Jamaican Patties\, Au Gratin Potatoes\, Blue Plate Special: PFS Ramen\, Rolls and Butter and Fresh Mixed Fruit
URL:https://peddie.org/event/dinner-308/
CATEGORIES:PFS Menus
END:VEVENT
BEGIN:VEVENT
DTSTART;TZID=America/New_York:20251211T071500
DTEND;TZID=America/New_York:20251211T080000
DTSTAMP:20260423T034015
CREATED:20251205T163859Z
LAST-MODIFIED:20251205T163902Z
UID:10002632-1765437300-1765440000@peddie.org
SUMMARY:Breakfast
DESCRIPTION:GF Scrambled Eggs\, Pancakes\, GF Diner Fries\, Pastries\, Fresh Mixed Fruit\, Yogurt and Muffins
URL:https://peddie.org/event/breakfast-284/
CATEGORIES:PFS Menus
END:VEVENT
BEGIN:VEVENT
DTSTART;TZID=America/New_York:20251211T113000
DTEND;TZID=America/New_York:20251211T134500
DTSTAMP:20260423T034015
CREATED:20251205T163959Z
LAST-MODIFIED:20251205T164001Z
UID:10002633-1765452600-1765460700@peddie.org
SUMMARY:Lunch
DESCRIPTION:Salad Bar & Deli Station\, Pasta – Ravioli/Vegetarian Station\, Chicken Dumpling Soup\, Roast Beef & Cheddar Sandwiches\, Seitan & Cheddar Sandwiches\, Honey Crisp Chicken Salad Cart\, Croissants and Fresh Mixed Fruit
URL:https://peddie.org/event/lunch-283/
CATEGORIES:PFS Menus
END:VEVENT
BEGIN:VEVENT
DTSTART;TZID=America/New_York:20251211T180000
DTEND;TZID=America/New_York:20251211T190000
DTSTAMP:20260423T034015
CREATED:20251205T164124Z
LAST-MODIFIED:20251205T164126Z
UID:10002634-1765476000-1765479600@peddie.org
SUMMARY:Dinner
DESCRIPTION:Salad Bar\, Pasta Station & Rice\, GF Vegetables\, GF Chicken with Country Gravy\, GF Spicy Mussels & Vegetables\, GF Basmati Rice\, GF Orange Tofu with Broccoli\, Bread and Butter and Fresh Mixed Fruit
URL:https://peddie.org/event/dinner-309/
CATEGORIES:PFS Menus
END:VEVENT
BEGIN:VEVENT
DTSTART;TZID=America/New_York:20251212T071500
DTEND;TZID=America/New_York:20251212T083000
DTSTAMP:20260423T034015
CREATED:20251205T164157Z
LAST-MODIFIED:20251205T164202Z
UID:10002635-1765523700-1765528200@peddie.org
SUMMARY:Breakfast
DESCRIPTION:GF Fried and Scrambled Eggs\, Texas Toast French Toast\, Home Fries\, Bagels\, Yogurt\, Berries & Granola Parfaits and Fresh Mixed Fruit
URL:https://peddie.org/event/breakfast-285/
CATEGORIES:PFS Menus
END:VEVENT
BEGIN:VEVENT
DTSTART;TZID=America/New_York:20251212T113000
DTEND;TZID=America/New_York:20251212T132000
DTSTAMP:20260423T034015
CREATED:20251205T164323Z
LAST-MODIFIED:20251205T164326Z
UID:10002636-1765539000-1765545600@peddie.org
SUMMARY:Lunch
DESCRIPTION:Salad Bar & Deli Station\, Pasta/Vegetarian Station\, Vegetables\, GF Vegetable Rice Soup\, Char Siu Pork Buns\, Portobello Red Bean Char Siu\, GF Sticky Rice\, Blue Plate Special: Walking Taco and Fresh Mixed Fruit
URL:https://peddie.org/event/lunch-284/
CATEGORIES:PFS Menus
END:VEVENT
BEGIN:VEVENT
DTSTART;TZID=America/New_York:20251212T180000
DTEND;TZID=America/New_York:20251212T190000
DTSTAMP:20260423T034015
CREATED:20251205T164409Z
LAST-MODIFIED:20251205T164412Z
UID:10002637-1765562400-1765566000@peddie.org
SUMMARY:Dinner
DESCRIPTION:Salad Bar/Deli Line\, Pasta Station & Rice\, Fried Flounder\, GF Beef Stew\, GF Chick Pea Stew\, Fresh Mixed Fruit\, Rolls and Butter and Frozen Yogurt
URL:https://peddie.org/event/dinner-310/
CATEGORIES:PFS Menus
END:VEVENT
BEGIN:VEVENT
DTSTART;TZID=America/New_York:20251213T071500
DTEND;TZID=America/New_York:20251213T080000
DTSTAMP:20260423T034015
CREATED:20251205T164436Z
LAST-MODIFIED:20251205T164440Z
UID:10002638-1765610100-1765612800@peddie.org
SUMMARY:Breakfast
DESCRIPTION:GF Scrambled Eggs\, Pancakes\, GF Hash Browns\, Pastries\, Bagels\, Yogurt and Fresh Mixed Fruit
URL:https://peddie.org/event/breakfast-286/
CATEGORIES:PFS Menus
END:VEVENT
BEGIN:VEVENT
DTSTART;TZID=America/New_York:20251213T113000
DTEND;TZID=America/New_York:20251213T130000
DTSTAMP:20260423T034015
CREATED:20251205T164512Z
LAST-MODIFIED:20251205T164515Z
UID:10002639-1765625400-1765630800@peddie.org
SUMMARY:Lunch
DESCRIPTION:Salad Bar\, Deli Station\, Pasta/Vegetarian Station\, GF Rice\, Vegetables\, Soup: Chef’s Choice\, Breaded Chicken Sandwiches\, Vegan Breaded Sandwiches and Fresh Mixed Fruit
URL:https://peddie.org/event/lunch-285/
CATEGORIES:PFS Menus
END:VEVENT
BEGIN:VEVENT
DTSTART;TZID=America/New_York:20251213T180000
DTEND;TZID=America/New_York:20251213T190000
DTSTAMP:20260423T034015
CREATED:20251205T164639Z
LAST-MODIFIED:20251205T164641Z
UID:10002640-1765648800-1765652400@peddie.org
SUMMARY:Dinner
DESCRIPTION:Salad Bar & Deli Station\, Pasta Station & Rice\, Chef’s Choice\, Buffalo Chicken Burritos\, Bean & Cheese Burritos\, Rolls and Butter and Fresh Mixed Fruit
URL:https://peddie.org/event/dinner-311/
CATEGORIES:PFS Menus
END:VEVENT
BEGIN:VEVENT
DTSTART;TZID=America/New_York:20251214T100000
DTEND;TZID=America/New_York:20251214T120000
DTSTAMP:20260423T034015
CREATED:20251212T160328Z
LAST-MODIFIED:20251212T160330Z
UID:10002649-1765706400-1765713600@peddie.org
SUMMARY:Brunch
DESCRIPTION:Breakfast Cereal\, Toast/Juice\, Waffles\, Eggs to Order\, GF Italian Egg Bake\, GF Pork Links or Chicken Links\, Bagels\, Yogurt\, Fresh Mixed Fruit\, GF Brunch Potatoes\, Assorted Pastries and Croissants
URL:https://peddie.org/event/brunch-42/
CATEGORIES:PFS Menus
END:VEVENT
BEGIN:VEVENT
DTSTART;TZID=America/New_York:20251214T170000
DTEND;TZID=America/New_York:20251214T180000
DTSTAMP:20260423T034015
CREATED:20251212T160355Z
LAST-MODIFIED:20251212T160358Z
UID:10002650-1765731600-1765735200@peddie.org
SUMMARY:Dinner
DESCRIPTION:Salad Bar/Deli Line\, Pasta Station & Rice\, Chef’s Choice\, GF Rice\, GF Vegetables\, GF Shrimp Stir Fry\, GF Tofu Stir Fry\, Fresh Mixed Fruit\, Rolls and Butter and Ice Cream Bar
URL:https://peddie.org/event/dinner-312/
CATEGORIES:PFS Menus
END:VEVENT
BEGIN:VEVENT
DTSTART;TZID=America/New_York:20251215T071500
DTEND;TZID=America/New_York:20251215T083000
DTSTAMP:20260423T034015
CREATED:20251212T160416Z
LAST-MODIFIED:20251212T160419Z
UID:10002651-1765782900-1765787400@peddie.org
SUMMARY:Breakfast
DESCRIPTION:Breakfast Cereal\, Fresh Fruit\, GF Scrambled Eggs\, Home Fries\, GF Omelets\, GF Breakfast Meats\, Strawberry Basil Smoothies\, Fresh Mixed Fruit\, Yogurt and Coffee Cake
URL:https://peddie.org/event/breakfast-287/
CATEGORIES:PFS Menus
END:VEVENT
BEGIN:VEVENT
DTSTART;TZID=America/New_York:20251215T113000
DTEND;TZID=America/New_York:20251215T132000
DTSTAMP:20260423T034015
CREATED:20251212T160456Z
LAST-MODIFIED:20251212T160459Z
UID:10002652-1765798200-1765804800@peddie.org
SUMMARY:Lunch
DESCRIPTION:Salad Bar\, Deli Station\, GF Rice\, Pasta/Vegetarian Station\, GF Corn Chowder\, Meatball Marinara\, Vegan Meatball Marinara\, Rice & Beans and Fresh Mixed Fruit
URL:https://peddie.org/event/lunch-286/
CATEGORIES:PFS Menus
END:VEVENT
BEGIN:VEVENT
DTSTART;TZID=America/New_York:20251215T183000
DTEND;TZID=America/New_York:20251215T191500
DTSTAMP:20260423T034015
CREATED:20250326T143343Z
LAST-MODIFIED:20251212T160553Z
UID:10001787-1765823400-1765826100@peddie.org
SUMMARY:Family Style Dinner
DESCRIPTION:Candy Apple Pork Belly\, GF Christmas Crunch Salad\, GF Grilled NY Strip Steak\, Au Gratin Potatoes\, GF Roasted Root Vegetables\, GF Polenta with Mushroom Ragu\, Bread & Garlic Thyme Butter\, Holiday Cookies and Ice Cream
URL:https://peddie.org/event/family-style-dinner-25/
LOCATION:The Peddie School\, 201 South Main Street\, Hightstown\, NJ\, 08250\, United States
CATEGORIES:PFS Menus,School Calendar
END:VEVENT
BEGIN:VEVENT
DTSTART;TZID=America/New_York:20251216T071500
DTEND;TZID=America/New_York:20251216T080000
DTSTAMP:20260423T034015
CREATED:20251212T160608Z
LAST-MODIFIED:20251212T160622Z
UID:10002653-1765869300-1765872000@peddie.org
SUMMARY:Breakfast
DESCRIPTION:GF Scrambled Eggs\, Challah French Toast\, GF Hash Browns\, Fresh Mixed Fruit\, Yogurt and Muffins
URL:https://peddie.org/event/breakfast-288/
CATEGORIES:PFS Menus
END:VEVENT
BEGIN:VEVENT
DTSTART;TZID=America/New_York:20251216T113000
DTEND;TZID=America/New_York:20251216T134500
DTSTAMP:20260423T034015
CREATED:20251212T160655Z
LAST-MODIFIED:20251212T160658Z
UID:10002654-1765884600-1765892700@peddie.org
SUMMARY:Lunch
DESCRIPTION:Salad Bar & Deli Station\, Pasta – Pesto/Vegetarian Station\, GF Rice\, Tomato Soup\, Grilled Cheese\, Mushroom Strudel and Fresh Mixed Fruit
URL:https://peddie.org/event/lunch-287/
CATEGORIES:PFS Menus
END:VEVENT
BEGIN:VEVENT
DTSTART;TZID=America/New_York:20251216T180000
DTEND;TZID=America/New_York:20251216T190000
DTSTAMP:20260423T034015
CREATED:20251212T160809Z
LAST-MODIFIED:20251212T160812Z
UID:10002655-1765908000-1765911600@peddie.org
SUMMARY:Dinner
DESCRIPTION:Hanukkah Dinner: Salad Bar\, Pasta Station & GF Rice\, Vegetables\, GF Hummus\, GF Ratatouille\, GF Falafel\, GF Coca Cola Brisket\, GF Roast Chicken\, GF Tzimmes\, Noodle Kugel\, Potato Latkes\, Challah Bread and Butter\, Sugar Cookies and Fresh Mixed Fruit
URL:https://peddie.org/event/dinner-313/
CATEGORIES:PFS Menus
END:VEVENT
BEGIN:VEVENT
DTSTART;TZID=America/New_York:20251217T071500
DTEND;TZID=America/New_York:20251217T083000
DTSTAMP:20260423T034015
CREATED:20251212T160831Z
LAST-MODIFIED:20251212T160834Z
UID:10002656-1765955700-1765960200@peddie.org
SUMMARY:Breakfast
DESCRIPTION:GF Fried Eggs\, GF Scrambled Eggs Bar\, Waffles Belgium\, GF Breakfast Meats\, Bagels\, Yogurt\, GF Smoothies and Fresh Mixed Fruit
URL:https://peddie.org/event/breakfast-289/
CATEGORIES:PFS Menus
END:VEVENT
BEGIN:VEVENT
DTSTART;TZID=America/New_York:20251217T113000
DTEND;TZID=America/New_York:20251217T132000
DTSTAMP:20260423T034015
CREATED:20251212T161050Z
LAST-MODIFIED:20251212T161053Z
UID:10002657-1765971000-1765977600@peddie.org
SUMMARY:Lunch
DESCRIPTION:Salad Bar\, Deli Station\, Pasta/Vegetarian Station\, Vegetables\, GF New England Clam Chowder\, GF Chicken Adobo\, GF Tofu Adobo\, GF Rice & Beans and Fresh Mixed Fruit
URL:https://peddie.org/event/lunch-288/
CATEGORIES:PFS Menus
END:VEVENT
BEGIN:VEVENT
DTSTART;TZID=America/New_York:20251217T180000
DTEND;TZID=America/New_York:20251217T190000
DTSTAMP:20260423T034015
CREATED:20251212T161137Z
LAST-MODIFIED:20251212T161140Z
UID:10002658-1765994400-1765998000@peddie.org
SUMMARY:Dinner
DESCRIPTION:Salad Bar & Deli Line\, Pasta Station & Rice\, GF Cajun Catfish\, GF Kielbasa & Sauerkraut\, GF Vegan Sausage & Sauerkraut\, Sweet Potato Fries\, Rolls and Butter and Fresh Mixed Fruit
URL:https://peddie.org/event/dinner-314/
CATEGORIES:PFS Menus
END:VEVENT
BEGIN:VEVENT
DTSTART;TZID=America/New_York:20251218T071500
DTEND;TZID=America/New_York:20251218T080000
DTSTAMP:20260423T034015
CREATED:20251212T161336Z
LAST-MODIFIED:20251212T161339Z
UID:10002659-1766042100-1766044800@peddie.org
SUMMARY:Breakfast
DESCRIPTION:GF Scrambled Eggs\, Pancakes\, GF Diner Fries\, Pastries\, Fresh Mixed Fruit\, Yogurt and Muffins
URL:https://peddie.org/event/breakfast-290/
CATEGORIES:PFS Menus
END:VEVENT
BEGIN:VEVENT
DTSTART;TZID=America/New_York:20251218T113000
DTEND;TZID=America/New_York:20251218T134500
DTSTAMP:20260423T034015
CREATED:20251212T161411Z
LAST-MODIFIED:20251212T161414Z
UID:10002660-1766057400-1766065500@peddie.org
SUMMARY:Lunch
DESCRIPTION:Salad Bar & Deli Station\, Pasta – Ravioli/Vegetarian Station\, Minestrone Soup\, Cuban Sandwiches\, Vegetable Cuban Sandwiches\, Chicken Caesar Salad Cart\, Croissants and Fresh Mixed Fruit
URL:https://peddie.org/event/lunch-289/
CATEGORIES:PFS Menus
END:VEVENT
BEGIN:VEVENT
DTSTART;TZID=America/New_York:20251218T180000
DTEND;TZID=America/New_York:20251218T190000
DTSTAMP:20260423T034015
CREATED:20251212T161501Z
LAST-MODIFIED:20251212T161504Z
UID:10002661-1766080800-1766084400@peddie.org
SUMMARY:Dinner
DESCRIPTION:Salad Bar\, Pasta Station & Rice\, GF Vegetables\, GF Chicken with Broccoli\, GF Maple Glaze Salmon\, GF Basmati Rice\, Roasted Italian Bean & Vegetable\, Bread and Butter and Fresh Mixed Fruit
URL:https://peddie.org/event/dinner-315/
CATEGORIES:PFS Menus
END:VEVENT
BEGIN:VEVENT
DTSTART;TZID=America/New_York:20251219T071500
DTEND;TZID=America/New_York:20251219T083000
DTSTAMP:20260423T034015
CREATED:20251212T161531Z
LAST-MODIFIED:20251212T161533Z
UID:10002662-1766128500-1766133000@peddie.org
SUMMARY:Breakfast
DESCRIPTION:GF Fried and Scrambled Eggs\, Texas Toast French Toast\, Home Fries\, Bagels\, Yogurt\, Berries & Granola Parfaits and Fresh Mixed Fruit
URL:https://peddie.org/event/breakfast-291/
CATEGORIES:PFS Menus
END:VEVENT
BEGIN:VEVENT
DTSTART;TZID=America/New_York:20251219T113000
DTEND;TZID=America/New_York:20251219T132000
DTSTAMP:20260423T034015
CREATED:20251212T161611Z
LAST-MODIFIED:20251212T161614Z
UID:10002663-1766143800-1766150400@peddie.org
SUMMARY:Lunch
DESCRIPTION:Salad Bar & Deli Station\, Pasta/Vegetarian Station\, Vegetables\, Cream of Mushroom Soup\, Stuffed Shells Pomodoro\, Black Bean Burgers\, and Fresh Mixed Fruit
URL:https://peddie.org/event/lunch-290/
CATEGORIES:PFS Menus
END:VEVENT
BEGIN:VEVENT
DTSTART;TZID=America/New_York:20251219T180000
DTEND;TZID=America/New_York:20251219T190000
DTSTAMP:20260423T034015
CREATED:20251212T161640Z
LAST-MODIFIED:20251212T161643Z
UID:10002664-1766167200-1766170800@peddie.org
SUMMARY:Dinner
DESCRIPTION:Salad Bar/Deli Line\, Pasta Station & Rice\, Chef’s Choice\, Chicken or Vegan Tenders\, Fresh Mixed Fruit\, Rolls and Butter and Frozen Yogurt
URL:https://peddie.org/event/dinner-316/
CATEGORIES:PFS Menus
END:VEVENT
BEGIN:VEVENT
DTSTART;TZID=America/New_York:20251220T100000
DTEND;TZID=America/New_York:20251220T113000
DTSTAMP:20260423T034015
CREATED:20251212T161713Z
LAST-MODIFIED:20251212T161844Z
UID:10002665-1766224800-1766230200@peddie.org
SUMMARY:Breakfast
DESCRIPTION:Traveling Student’s Continental Breakfast Grab-n-Go
URL:https://peddie.org/event/breakfast-292/
CATEGORIES:PFS Menus
END:VEVENT
END:VCALENDAR