BEGIN:VCALENDAR
VERSION:2.0
PRODID:-//The Peddie School - ECPv6.15.17.1//NONSGML v1.0//EN
CALSCALE:GREGORIAN
METHOD:PUBLISH
X-WR-CALNAME:The Peddie School
X-ORIGINAL-URL:https://peddie.org
X-WR-CALDESC:Events for The Peddie School
REFRESH-INTERVAL;VALUE=DURATION:PT1H
X-Robots-Tag:noindex
X-PUBLISHED-TTL:PT1H
BEGIN:VTIMEZONE
TZID:America/New_York
BEGIN:DAYLIGHT
TZOFFSETFROM:-0500
TZOFFSETTO:-0400
TZNAME:EDT
DTSTART:20250309T070000
END:DAYLIGHT
BEGIN:STANDARD
TZOFFSETFROM:-0400
TZOFFSETTO:-0500
TZNAME:EST
DTSTART:20251102T060000
END:STANDARD
BEGIN:DAYLIGHT
TZOFFSETFROM:-0500
TZOFFSETTO:-0400
TZNAME:EDT
DTSTART:20260308T070000
END:DAYLIGHT
BEGIN:STANDARD
TZOFFSETFROM:-0400
TZOFFSETTO:-0500
TZNAME:EST
DTSTART:20261101T060000
END:STANDARD
BEGIN:DAYLIGHT
TZOFFSETFROM:-0500
TZOFFSETTO:-0400
TZNAME:EDT
DTSTART:20270314T070000
END:DAYLIGHT
BEGIN:STANDARD
TZOFFSETFROM:-0400
TZOFFSETTO:-0500
TZNAME:EST
DTSTART:20271107T060000
END:STANDARD
END:VTIMEZONE
BEGIN:VEVENT
DTSTART;TZID=America/New_York:20260225T183000
DTEND;TZID=America/New_York:20260225T193000
DTSTAMP:20260420T230827
CREATED:20241119T193306Z
LAST-MODIFIED:20260223T133120Z
UID:10001404-1772044200-1772047800@peddie.org
SUMMARY:Student Art Exhibit
DESCRIPTION:The Student Achievement Show will feature Peddie artists’ work in all visual arts electives throughout the Arts Center. Come out to celebrate Peddie artists’ expression in all kinds of media! You’ll find sculptures inspired by alebrijes\, photography and film captured in NYC\, library and studio apartment models\, suitcases\, flowers (even in winter)\, human hearts\, hands\, activist paintings and more!
URL:https://peddie.org/event/student-arts-exhibit/
LOCATION:Performing Arts Center
CATEGORIES:Arts,School Calendar
END:VEVENT
END:VCALENDAR